BEGIN:VCALENDAR
PRODID:-//AT Content Types//AT Event//EN
VERSION:2.0
METHOD:PUBLISH
BEGIN:VEVENT
DTSTAMP:20260422T133745Z
CREATED:20150807T103248Z
LAST-MODIFIED:20150819T073343Z
SUMMARY:Biobased Industry  - l’Unibo a Ecomondo 2015
DTSTART:20151103T230000Z
DTEND:20151103T230000Z
DESCRIPTION:Verso una catena alimentare a zero rifiuti: tecnologie abi
 litanti  per la sostenibilità dell’industria alimentare e la gestio
 ne dei rifiuti in una prospettiva di economia circolare.
LOCATION:Quartiere fieristico di Rimini - Sala della Chimica Verde\, Via Emilia\, 155 Rimini\, Italia
URL:https://www.unibo.it/it/news/bacheca/biobased-industry-unibo-a-ecomondo-2015
CLASS:PUBLIC
END:VEVENT
END:VCALENDAR
